BEGIN:VCALENDAR
VERSION:2.0
PRODID:-//Nortons Digbeth - ECPv6.15.17.1//NONSGML v1.0//EN
CALSCALE:GREGORIAN
METHOD:PUBLISH
X-WR-CALNAME:Nortons Digbeth
X-ORIGINAL-URL:https://nortons.bar
X-WR-CALDESC:Events for Nortons Digbeth
REFRESH-INTERVAL;VALUE=DURATION:PT1H
X-Robots-Tag:noindex
X-PUBLISHED-TTL:PT1H
BEGIN:VTIMEZONE
TZID:UTC
BEGIN:STANDARD
TZOFFSETFROM:+0000
TZOFFSETTO:+0000
TZNAME:UTC
DTSTART:20240101T000000
END:STANDARD
END:VTIMEZONE
BEGIN:VEVENT
DTSTART;TZID=UTC:20251210T180000
DTEND;TZID=UTC:20251210T230000
DTSTAMP:20260422T061506
CREATED:20251106T144512Z
LAST-MODIFIED:20251106T154128Z
UID:2736-1765389600-1765407600@nortons.bar
SUMMARY:An Evening with Carl Chinn: Dickens & A Christmas Carol
DESCRIPTION:Join us at Nortons Digbeth on Wednesday 10th December as Professor Carl Chinn MBE returns with a brand new talk – Charles Dickens and A Christmas Carol. \nIn this special festive edition of his often sold-out Birmingham history talks\, Carl explores the life\, times and inspiration behind Dickens’ most famous work\, diving into the social and moral lessons that made A Christmas Carol one of the most enduring stories ever written. \nExpect a night filled with history and heart\, as Carl brings Victorian Birmingham to life\, shining a light on the city’s ties to Dickens’ world of compassion and redemption. With his trademark Brummie pride and storytelling flair\, it’s the perfect way to kick off the Christmas season. \n🎟️ Tickets available now – early booking advised!\n📅 Wednesday 10th December 2025\n📍 Nortons Digbeth\, 43-45 Meriden Street\, Birmingham\n🍺 Doors 6pm | Talk 7pm\n✨ A night of history\, festivity and Brummie spirit
URL:https://nortons.bar/event/an-evening-with-carl-chinn-dickens-a-christmas-carol/
LOCATION:Nortons Digbeth\, 43-45 Meriden Street\, Irish Quarter Digbeth\, Birmingham\, B5 5LS\, United Kingdom
CATEGORIES:All Events,Big Gigs,Upcoming
ATTACH;FMTTYPE=image/png:https://nortons.bar/wp-content/uploads/2025/11/Screenshot-2025-11-06-at-14.44.35.png
END:VEVENT
END:VCALENDAR