BEGIN:VCALENDAR
VERSION:2.0
PRODID:-//Nortons Digbeth - ECPv6.15.17.1//NONSGML v1.0//EN
CALSCALE:GREGORIAN
METHOD:PUBLISH
X-WR-CALNAME:Nortons Digbeth
X-ORIGINAL-URL:https://nortons.bar
X-WR-CALDESC:Events for Nortons Digbeth
REFRESH-INTERVAL;VALUE=DURATION:PT1H
X-Robots-Tag:noindex
X-PUBLISHED-TTL:PT1H
BEGIN:VTIMEZONE
TZID:UTC
BEGIN:STANDARD
TZOFFSETFROM:+0000
TZOFFSETTO:+0000
TZNAME:UTC
DTSTART:20220101T000000
END:STANDARD
END:VTIMEZONE
BEGIN:VEVENT
DTSTART;TZID=UTC:20230318T000000
DTEND;TZID=UTC:20230318T235959
DTSTAMP:20260425T215216
CREATED:20230309T062556Z
LAST-MODIFIED:20230315T174442Z
UID:1447-1679097600-1679183999@nortons.bar
SUMMARY:St Patrick's Saturday - LAMPA\, Cairde and 6 Nations England v Ireland!
DESCRIPTION:Celebrate St Patrick’s Weekend with two of Birmingham’s best known Irish bands – LAMPA and Cairde! \n\n\n\nWe’re open from 10am for the fry\, we’ve the 6 nations on every screen\, full Irish breakfasts and the best Guinness in Birmingham and then of course- live music and DJs late into the night for the typical Nortons’ carry-on! \n\n\n\nExpect to hear covers\, the craic\, trad and those Irish classics from some of the best Irish talent in Birmingham! \n\n\n\nFree entry before 9pm – £5
URL:https://nortons.bar/event/st-patricks-saturday-lampa-cairde-and-6-nations-england-v-ireland/
LOCATION:Nortons Digbeth\, 43-45 Meriden Street\, Irish Quarter Digbeth\, Birmingham\, B5 5LS\, United Kingdom
CATEGORIES:6 Nations,Sport,Upcoming
ATTACH;FMTTYPE=image/jpeg:https://nortons.bar/wp-content/uploads/2023/01/Z7B0959-e1674659614494.jpg
END:VEVENT
END:VCALENDAR