BEGIN:VCALENDAR
VERSION:2.0
PRODID:-//Nortons Digbeth - ECPv6.15.17.1//NONSGML v1.0//EN
CALSCALE:GREGORIAN
METHOD:PUBLISH
X-ORIGINAL-URL:https://nortons.bar
X-WR-CALDESC:Events for Nortons Digbeth
REFRESH-INTERVAL;VALUE=DURATION:PT1H
X-Robots-Tag:noindex
X-PUBLISHED-TTL:PT1H
BEGIN:VTIMEZONE
TZID:UTC
BEGIN:STANDARD
TZOFFSETFROM:+0000
TZOFFSETTO:+0000
TZNAME:UTC
DTSTART:20220101T000000
END:STANDARD
END:VTIMEZONE
BEGIN:VEVENT
DTSTART;TZID=UTC:20230317T110000
DTEND;TZID=UTC:20230317T120000
DTSTAMP:20260425T232744
CREATED:20230315T174342Z
LAST-MODIFIED:20230315T174344Z
UID:1488-1679050800-1679054400@nortons.bar
SUMMARY:St Patrick's Day Mass - Fr Gerard Kelly and Our Lady's School Choir
DESCRIPTION:It’s about time we had the pub blessed\, so yes\, we will be holding an actual mass on St Patrick’s Day! The service will be lead by FR Gerard Kelly (St Francis of Assisi Catholic Church\, Handsworth) and will feature Our Lady’s School Choir. \n\n\n\nOur Lady’s School Choir are a 30 strong school choir from Our Lady’s School\, lead by Niamh McCorriston of one of our favourite bands\, Heed. \n\n\n\nThis is a genuine chance to reflect on the true meaning of St Patrick’s Day\, and is serious service\, with Holy Communion or a blessing for those who wish to receive it. \n\n\n\nOur bars will then open from midday when the mass is expected to finish\, and the Choir will take a short break before kickstarting the days celebrations with a selection of popular Irish tunes!
URL:https://nortons.bar/event/st-patricks-day-mass-fr-gerard-kelly-and-our-ladys-school-choir/
LOCATION:Nortons Digbeth\, 43-45 Meriden Street\, Irish Quarter Digbeth\, Birmingham\, B5 5LS\, United Kingdom
CATEGORIES:St Patrick's,Upcoming
ATTACH;FMTTYPE=image/jpeg:https://nortons.bar/wp-content/uploads/2023/01/268410523_622383689180550_1890548640313842250_n.jpg
END:VEVENT
END:VCALENDAR