BEGIN:VCALENDAR
VERSION:2.0
PRODID:-//Nortons Digbeth - ECPv6.15.17.1//NONSGML v1.0//EN
CALSCALE:GREGORIAN
METHOD:PUBLISH
X-ORIGINAL-URL:https://nortons.bar
X-WR-CALDESC:Events for Nortons Digbeth
REFRESH-INTERVAL;VALUE=DURATION:PT1H
X-Robots-Tag:noindex
X-PUBLISHED-TTL:PT1H
BEGIN:VTIMEZONE
TZID:UTC
BEGIN:STANDARD
TZOFFSETFROM:+0000
TZOFFSETTO:+0000
TZNAME:UTC
DTSTART:20240101T000000
END:STANDARD
END:VTIMEZONE
BEGIN:VEVENT
DTSTART;TZID=UTC:20251205T180000
DTEND;TZID=UTC:20251206T013000
DTSTAMP:20260420T063319
CREATED:20251202T163758Z
LAST-MODIFIED:20251202T163758Z
UID:2769-1764957600-1764984600@nortons.bar
SUMMARY:One For The Road & more LIVE @ Nortons - Late Nights\, Live Music\, Creamy Pints!
DESCRIPTION:Friday nights at Nortons! This week we have:\nOne For The Road & more til late! \nStart your weekend the right way – with creamy pints\, live music and plenty of craic at your favourite Irish bar in Digbeth. \nEvery Friday we bring you top-class live acts\, from foot-stomping trad sessions to big singalongs and floor-fillers. Add in our massive selection of Irish whiskeys\, cold pints of the black stuff\, and a bar full of friendly faces\, and you’ve got yourself a proper Friday night. \nIt’s the best way to roll into the weekend!
URL:https://nortons.bar/event/one-for-the-road-more-live-nortons-late-nights-live-music-creamy-pints/
LOCATION:Nortons Digbeth\, 43-45 Meriden Street\, Irish Quarter Digbeth\, Birmingham\, B5 5LS\, United Kingdom
CATEGORIES:All Events,This week events,Upcoming
ATTACH;FMTTYPE=image/jpeg:https://nortons.bar/wp-content/uploads/2024/02/IMG_0861.jpg
END:VEVENT
END:VCALENDAR