BEGIN:VCALENDAR
VERSION:2.0
PRODID:-//Nortons Digbeth - ECPv6.15.17.1//NONSGML v1.0//EN
CALSCALE:GREGORIAN
METHOD:PUBLISH
X-ORIGINAL-URL:https://nortons.bar
X-WR-CALDESC:Events for Nortons Digbeth
REFRESH-INTERVAL;VALUE=DURATION:PT1H
X-Robots-Tag:noindex
X-PUBLISHED-TTL:PT1H
BEGIN:VTIMEZONE
TZID:UTC
BEGIN:STANDARD
TZOFFSETFROM:+0000
TZOFFSETTO:+0000
TZNAME:UTC
DTSTART:20240101T000000
END:STANDARD
END:VTIMEZONE
BEGIN:VEVENT
DTSTART;TZID=UTC:20251122T170000
DTEND;TZID=UTC:20251122T210000
DTSTAMP:20260422T100202
CREATED:20251105T164603Z
LAST-MODIFIED:20251105T164603Z
UID:2730-1763830800-1763845200@nortons.bar
SUMMARY:🇮🇪 Rugby at Nortons! Autumn Series 2025 – Ireland LIVE & LOUD!
DESCRIPTION:Ireland v South Africa – 5:40pm \nAnother huge clash for the boys in green as Ireland take on South Africa\, live & loud in Digbeth. \nBefore and after the game we’ve got an unreal Saturday lineup of live music: \n🎵 Aidan Sullivan\n🎵 Nortons House Band ft. Richard Oliver\n🎵 Jasper Malone\n🎵 On The Sesh \nPints\, tunes\, and rugby – it’s what Saturdays at Nortons are all about ☘️
URL:https://nortons.bar/event/%f0%9f%87%ae%f0%9f%87%aa-rugby-at-nortons-autumn-series-2025-ireland-live-loud/
LOCATION:Nortons Digbeth\, 43-45 Meriden Street\, Irish Quarter Digbeth\, Birmingham\, B5 5LS\, United Kingdom
CATEGORIES:All Events,Sport,Upcoming
ATTACH;FMTTYPE=image/jpeg:https://nortons.bar/wp-content/uploads/2025/11/NRT_AUT_RUGBY_WEB.jpg
END:VEVENT
END:VCALENDAR