BEGIN:VCALENDAR
VERSION:2.0
PRODID:-//Nortons Digbeth - ECPv6.15.17.1//NONSGML v1.0//EN
CALSCALE:GREGORIAN
METHOD:PUBLISH
X-WR-CALNAME:Nortons Digbeth
X-ORIGINAL-URL:https://nortons.bar
X-WR-CALDESC:Events for Nortons Digbeth
REFRESH-INTERVAL;VALUE=DURATION:PT1H
X-Robots-Tag:noindex
X-PUBLISHED-TTL:PT1H
BEGIN:VTIMEZONE
TZID:UTC
BEGIN:STANDARD
TZOFFSETFROM:+0000
TZOFFSETTO:+0000
TZNAME:UTC
DTSTART:20240101T000000
END:STANDARD
END:VTIMEZONE
BEGIN:VEVENT
DTSTART;TZID=UTC:20251108T120000
DTEND;TZID=UTC:20251108T220000
DTSTAMP:20260422T232632
CREATED:20251105T164200Z
LAST-MODIFIED:20251105T164200Z
UID:2724-1762603200-1762639200@nortons.bar
SUMMARY:Rugby at Nortons! Autumn Series 2025 – Ireland & England LIVE & LOUD!
DESCRIPTION:Ireland v Japan – 12:40pm\nEngland v Fiji – 5:40pm \nThe pints will be flowing and the screens booming as both Ireland and England hit the pitch this Saturday. \nCatch Ireland v Japan live from 12:40pm\, then stick around for England v Fiji later in the afternoon – both live & loud at Nortons. \nLive music featuring: \n🎵 Jack Banting\n🎵 Heed\n🎵 Jasper Malone\n🎵 LAMPA \nIt’s an all-day affair – bottomless brunch\, creamy pints\, big games and 12 hours of proper Irish music.
URL:https://nortons.bar/event/rugby-at-nortons-autumn-series-2025-ireland-england-live-loud/
LOCATION:Nortons Digbeth\, 43-45 Meriden Street\, Irish Quarter Digbeth\, Birmingham\, B5 5LS\, United Kingdom
CATEGORIES:Sport,This week events,Upcoming
ATTACH;FMTTYPE=image/jpeg:https://nortons.bar/wp-content/uploads/2025/11/NRT_AUT_RUGBY_WEB.jpg
END:VEVENT
BEGIN:VEVENT
DTSTART;TZID=UTC:20251115T150000
DTEND;TZID=UTC:20251115T230000
DTSTAMP:20260422T232632
CREATED:20251105T164438Z
LAST-MODIFIED:20251105T164438Z
UID:2728-1763218800-1763247600@nortons.bar
SUMMARY:🇮🇪 Rugby at Nortons! Autumn Series 2025 – Ireland & England LIVE & LOUD!
DESCRIPTION:England v New Zealand – 3:10pm\nIreland v Australia – 8:10pm \nA double header not to miss – England face the mighty All Blacks in the afternoon before Ireland take on Australia under the lights. \nAll games shown live & loud\, surrounded by a full day of top-class live music: \n🎵 Jack Banting\n🎵 Heed\n🎵 Ana\n🎵 The Score \nGrab your pals\, get the jerseys on\, and make a day of it – from kickoff to last song\, this one’s going to be special.
URL:https://nortons.bar/event/%f0%9f%87%ae%f0%9f%87%aa-rugby-at-nortons-autumn-series-2025-ireland-england-live-loud/
LOCATION:Nortons Digbeth\, 43-45 Meriden Street\, Irish Quarter Digbeth\, Birmingham\, B5 5LS\, United Kingdom
CATEGORIES:All Events,Sport,Upcoming
ATTACH;FMTTYPE=image/jpeg:https://nortons.bar/wp-content/uploads/2025/11/NRT_AUT_RUGBY_WEB.jpg
END:VEVENT
BEGIN:VEVENT
DTSTART;TZID=UTC:20251122T170000
DTEND;TZID=UTC:20251122T210000
DTSTAMP:20260422T232632
CREATED:20251105T164603Z
LAST-MODIFIED:20251105T164603Z
UID:2730-1763830800-1763845200@nortons.bar
SUMMARY:🇮🇪 Rugby at Nortons! Autumn Series 2025 – Ireland LIVE & LOUD!
DESCRIPTION:Ireland v South Africa – 5:40pm \nAnother huge clash for the boys in green as Ireland take on South Africa\, live & loud in Digbeth. \nBefore and after the game we’ve got an unreal Saturday lineup of live music: \n🎵 Aidan Sullivan\n🎵 Nortons House Band ft. Richard Oliver\n🎵 Jasper Malone\n🎵 On The Sesh \nPints\, tunes\, and rugby – it’s what Saturdays at Nortons are all about ☘️
URL:https://nortons.bar/event/%f0%9f%87%ae%f0%9f%87%aa-rugby-at-nortons-autumn-series-2025-ireland-live-loud/
LOCATION:Nortons Digbeth\, 43-45 Meriden Street\, Irish Quarter Digbeth\, Birmingham\, B5 5LS\, United Kingdom
CATEGORIES:All Events,Sport,Upcoming
ATTACH;FMTTYPE=image/jpeg:https://nortons.bar/wp-content/uploads/2025/11/NRT_AUT_RUGBY_WEB.jpg
END:VEVENT
BEGIN:VEVENT
DTSTART;TZID=UTC:20251123T140000
DTEND;TZID=UTC:20251123T190000
DTSTAMP:20260422T232632
CREATED:20251105T164726Z
LAST-MODIFIED:20251105T164726Z
UID:2732-1763906400-1763924400@nortons.bar
SUMMARY:🏉 Rugby at Nortons! Autumn Series 2025 – England LIVE & LOUD!
DESCRIPTION:England v Argentina – 2:10pm \nRound off the series in style – England v Argentina live & loud at Nortons! \nWe’re serving up Sunday roasts with all the trimmings from 12–6\, perfect for lining your stomach before (or during) the game. \nGrab a Guinness\, settle in\, and enjoy proper pub rugby the way it should be – big screens\, great food\, and the best crowd in Brum.
URL:https://nortons.bar/event/%f0%9f%8f%89-rugby-at-nortons-autumn-series-2025-england-live-loud/
LOCATION:Nortons Digbeth\, 43-45 Meriden Street\, Irish Quarter Digbeth\, Birmingham\, B5 5LS\, United Kingdom
CATEGORIES:All Events,Sport,Upcoming
ATTACH;FMTTYPE=image/jpeg:https://nortons.bar/wp-content/uploads/2025/11/NRT_AUT_RUGBY_WEB.jpg
END:VEVENT
END:VCALENDAR