BEGIN:VCALENDAR
VERSION:2.0
PRODID:-//Nortons Digbeth - ECPv6.15.17.1//NONSGML v1.0//EN
CALSCALE:GREGORIAN
METHOD:PUBLISH
X-WR-CALNAME:Nortons Digbeth
X-ORIGINAL-URL:https://nortons.bar
X-WR-CALDESC:Events for Nortons Digbeth
REFRESH-INTERVAL;VALUE=DURATION:PT1H
X-Robots-Tag:noindex
X-PUBLISHED-TTL:PT1H
BEGIN:VTIMEZONE
TZID:UTC
BEGIN:STANDARD
TZOFFSETFROM:+0000
TZOFFSETTO:+0000
TZNAME:UTC
DTSTART:20240101T000000
END:STANDARD
END:VTIMEZONE
BEGIN:VEVENT
DTSTART;TZID=UTC:20251220T123000
DTEND;TZID=UTC:20251221T023000
DTSTAMP:20260425T021102
CREATED:20251202T163347Z
LAST-MODIFIED:20251202T163347Z
UID:2765-1766233800-1766284200@nortons.bar
SUMMARY:Aidan Sullivan\, One For The Road\, Mubba Bubba\, Kell\, Jack Banting - 12 HOURS OF LIVE MUSIC
DESCRIPTION:Saturdays at Nortons are the big one. Joining us this week:\nAidan Sullivan\, One For The Road\, Mubba Bubba\, Kell\, Jack Banting & more! \nWe kick things off with Bottomless Brunch – featuring the best Full Irish brekkie in Birmingham\, packed with all the traditional favourites that’ll sort you right out. \nThen it’s straight into a marathon day of live music\, with 12 hours of top-class Irish bands and musicians taking over the stage. Keep yourself fuelled with freshly made pizzas and proper Irish curry chips\, and drink your way around the bar – from the creamiest pints in town to over 50 incredible Irish whiskeys. \nGood food\, great tunes\, and plenty of craic. \nSláinte\, bab! \n  \nBOTTOMESS BRUNCH TICKETS HERE
URL:https://nortons.bar/event/aidan-sullivan-one-for-the-road-mubba-bubba-kell-jack-banting-12-hours-of-live-music/
LOCATION:Nortons Digbeth\, 43-45 Meriden Street\, Irish Quarter Digbeth\, Birmingham\, B5 5LS\, United Kingdom
CATEGORIES:All Events,Big Gigs,Upcoming
ATTACH;FMTTYPE=image/jpeg:https://nortons.bar/wp-content/uploads/2025/11/JACK-BANT-1-scaled.jpg
END:VEVENT
END:VCALENDAR