BEGIN:VCALENDAR
VERSION:2.0
PRODID:-//Nortons Digbeth - ECPv6.15.17.1//NONSGML v1.0//EN
CALSCALE:GREGORIAN
METHOD:PUBLISH
X-WR-CALNAME:Nortons Digbeth
X-ORIGINAL-URL:https://nortons.bar
X-WR-CALDESC:Events for Nortons Digbeth
REFRESH-INTERVAL;VALUE=DURATION:PT1H
X-Robots-Tag:noindex
X-PUBLISHED-TTL:PT1H
BEGIN:VTIMEZONE
TZID:UTC
BEGIN:STANDARD
TZOFFSETFROM:+0000
TZOFFSETTO:+0000
TZNAME:UTC
DTSTART:20250101T000000
END:STANDARD
END:VTIMEZONE
BEGIN:VEVENT
DTSTART;TZID=UTC:20260501T200000
DTEND;TZID=UTC:20260502T010000
DTSTAMP:20260424T170304
CREATED:20260407T113001Z
LAST-MODIFIED:20260407T113001Z
UID:3044-1777665600-1777683600@nortons.bar
SUMMARY:Simon Boswell & Call Me Unique: Friday at Nortons!
DESCRIPTION:Simon Boswell gets it going from 9pm\, then Call Me Unique takes over from 11 and keeps it moving properly. \nPints in hand\, music up\, and no one standing still for long. \nIf you’re after a quiet one\, try somewhere else.If you’re after a proper night in an Irish pub\, you know where you’re heading. \nGet in early and get involved.
URL:https://nortons.bar/event/simon-boswell-call-me-unique-friday-at-nortons/
LOCATION:Nortons Digbeth\, 43-45 Meriden Street\, Irish Quarter Digbeth\, Birmingham\, B5 5LS\, United Kingdom
CATEGORIES:All Events
ATTACH;FMTTYPE=image/jpeg:https://nortons.bar/wp-content/uploads/2026/04/simon-boswell-e1775561361924.jpg
END:VEVENT
BEGIN:VEVENT
DTSTART;TZID=UTC:20260502T140000
DTEND;TZID=UTC:20260503T020000
DTSTAMP:20260424T170304
CREATED:20260407T115403Z
LAST-MODIFIED:20260407T115403Z
UID:3047-1777730400-1777773600@nortons.bar
SUMMARY:One For The Road + more! Live Music. Late Nights. Creamy Pints: Saturdays at Nortons!
DESCRIPTION:We’re starting early and running it straight through: \nAidan SullivanEllie GriceRosie O’SullivanOne For The Roadplus more to be confirmed \nThis is one of those days where the pints start early\, the music doesn’t stop\, and you’re still here hours later wondering how that happened. \nBig Irish pub\, full room\, proper craic all day into night. \nGet in and get amongst it.
URL:https://nortons.bar/event/one-for-the-road-more-live-music-late-nights-creamy-pints-saturdays-at-nortons/
LOCATION:Nortons Digbeth\, 43-45 Meriden Street\, Irish Quarter Digbeth\, Birmingham\, B5 5LS\, United Kingdom
CATEGORIES:All Events
ATTACH;FMTTYPE=image/jpeg:https://nortons.bar/wp-content/uploads/2026/01/DSC5258R-scaled.jpg
END:VEVENT
BEGIN:VEVENT
DTSTART;TZID=UTC:20260508T200000
DTEND;TZID=UTC:20260509T020000
DTSTAMP:20260424T170304
CREATED:20260407T115703Z
LAST-MODIFIED:20260407T115703Z
UID:3049-1778270400-1778292000@nortons.bar
SUMMARY:HEED + Sean Reeves: Fridays at Nortons!
DESCRIPTION:Sean Reeves from 9pm to get things movingthen HEED from 11pm and that’s where it properly kicks on \nPints flowing\, tunes flying out\, and no one standing still for long. \nIf you’ve seen HEED before\, you already know.If you haven’t\, you’re about to find out. \nGet in early.
URL:https://nortons.bar/event/heed-sean-reeves-fridays-at-nortons/
LOCATION:Nortons Digbeth\, 43-45 Meriden Street\, Irish Quarter Digbeth\, Birmingham\, B5 5LS\, United Kingdom
CATEGORIES:All Events
ATTACH;FMTTYPE=image/jpeg:https://nortons.bar/wp-content/uploads/2024/10/336993770_162916796305482_4335326009757366743_n-e1729099913882.jpg
END:VEVENT
BEGIN:VEVENT
DTSTART;TZID=UTC:20260509T140000
DTEND;TZID=UTC:20260510T020000
DTSTAMP:20260424T170304
CREATED:20260407T115945Z
LAST-MODIFIED:20260407T115945Z
UID:3051-1778335200-1778378400@nortons.bar
SUMMARY:Ire-ish\, Jack Banting + more! Live Music. Late Nights. Creamy Pints: Saturdays at Nortons!
DESCRIPTION:We’re running it right through the day and into the early hours: \nAidan SullivanSean ReevesJack BantingIre-Ish taking it late\nplus more to be confirmed \nThis is a proper all-dayer. Pints stacking up\, music back to back\, and the place getting busier every hour. \nYou won’t want to miss this one!
URL:https://nortons.bar/event/ire-ish-jack-banting-more-live-music-late-nights-creamy-pints-saturdays-at-nortons/
LOCATION:Nortons Digbeth\, 43-45 Meriden Street\, Irish Quarter Digbeth\, Birmingham\, B5 5LS\, United Kingdom
CATEGORIES:All Events
ATTACH;FMTTYPE=image/jpeg:https://nortons.bar/wp-content/uploads/2026/01/DSC_4978-scaled.jpg
END:VEVENT
BEGIN:VEVENT
DTSTART;TZID=UTC:20260516T170000
DTEND;TZID=UTC:20260517T020000
DTSTAMP:20260424T170304
CREATED:20260423T220857Z
LAST-MODIFIED:20260423T220942Z
UID:3077-1778950800-1778983200@nortons.bar
SUMMARY:Country Night at Nortons - FREE ENTRY! Featuring: It's Country\, Grace Palmer\, Rosie O'Sullivan & Dancing with The Dixie Dolls!
DESCRIPTION:Saddle up – we’re going full country at Nortons 🤠🍻 \nAnd yes… tickets are FREE. \nWe’re bringing a full night of live country music to Digbeth with It’s Country\, Grace Palmer\, Rosie O’Sullivan and more taking over the stage\, plus The Dixie Dolls running line dancing and showing you how it’s actually done. \nExpect big singalongs\, boots on the floor\, and a room full of people fully committing to it. Whether you’re a seasoned two-stepper or just here for the pints and the craic\, you’ll be in it before you know it. \nWhat to expect: \n\nLive country music all night\nLine dancing (and lessons) from The Dixie Dolls\nFancy dress strongly encouraged – hats\, boots\, double denim\, go big\nA very lively Nortons crowd\n\n  \nAnd tunes from the likes of: \n\nDolly Parton\nJohnny Cash\nShania Twain\nKenny Rogers\nWillie Nelson\nPatsy Cline\nJohn Denver\nGlen Campbell\nLuke Combs\nMorgan Wallen\nChris Stapleton\nKacey Musgraves\nZach Bryan\nLainey Wilson\n\nImportant bit:\nTickets are FREE\, but space isn’t. Once we’re full\, we’re full – so get yours sorted and get down early. \nNo excuses on this one.
URL:https://nortons.bar/event/country-night-at-nortons/
LOCATION:Nortons Digbeth\, 43-45 Meriden Street\, Irish Quarter Digbeth\, Birmingham\, B5 5LS\, United Kingdom
CATEGORIES:All Events,Big Gigs,Upcoming
ATTACH;FMTTYPE=image/jpeg:https://nortons.bar/wp-content/uploads/2026/04/Artboard-1.jpg
END:VEVENT
END:VCALENDAR