BEGIN:VCALENDAR
VERSION:2.0
PRODID:-//Nortons Digbeth - ECPv6.15.17.1//NONSGML v1.0//EN
CALSCALE:GREGORIAN
METHOD:PUBLISH
X-ORIGINAL-URL:https://nortons.bar
X-WR-CALDESC:Events for Nortons Digbeth
REFRESH-INTERVAL;VALUE=DURATION:PT1H
X-Robots-Tag:noindex
X-PUBLISHED-TTL:PT1H
BEGIN:VTIMEZONE
TZID:UTC
BEGIN:STANDARD
TZOFFSETFROM:+0000
TZOFFSETTO:+0000
TZNAME:UTC
DTSTART:20240101T000000
END:STANDARD
END:VTIMEZONE
BEGIN:VEVENT
DTSTART;TZID=UTC:20250531T200000
DTEND;TZID=UTC:20250531T220000
DTSTAMP:20260425T143723
CREATED:20250527T140559Z
LAST-MODIFIED:20250527T140600Z
UID:2624-1748721600-1748728800@nortons.bar
SUMMARY:Champions League Final
DESCRIPTION:Don’t miss the action of the Champions League Final! Secure your spot to witness every goal\, tackle\, and cheer live with us. Reserve a table with us now! \nGet all the big screen action in the beer garden on our huge outdoor screen\, and across the venue on our multiple 4k TVs and projectors! \nReserve your table now for free!
URL:https://nortons.bar/event/champions-league-final/
LOCATION:Nortons Digbeth\, 43-45 Meriden Street\, Irish Quarter Digbeth\, Birmingham\, B5 5LS\, United Kingdom
CATEGORIES:Sport,Upcoming
ATTACH;FMTTYPE=image/jpeg:https://nortons.bar/wp-content/uploads/2025/05/uefa-champions-league-banner-862x485-1.jpg
END:VEVENT
END:VCALENDAR